BEGIN:VCALENDAR
VERSION:2.0
PRODID:-//Perfumery Directory - ECPv6.13.2.1//NONSGML v1.0//EN
CALSCALE:GREGORIAN
METHOD:PUBLISH
X-ORIGINAL-URL:https://perfumerydirectory.com
X-WR-CALDESC:Events for Perfumery Directory
REFRESH-INTERVAL;VALUE=DURATION:PT1H
X-Robots-Tag:noindex
X-PUBLISHED-TTL:PT1H
BEGIN:VTIMEZONE
TZID:UTC
BEGIN:STANDARD
TZOFFSETFROM:+0000
TZOFFSETTO:+0000
TZNAME:UTC
DTSTART:20200101T000000
END:STANDARD
END:VTIMEZONE
BEGIN:VEVENT
DTSTART;TZID=UTC:20200630T080000
DTEND;TZID=UTC:20200630T170000
DTSTAMP:20260423T184437
CREATED:20200610T142730Z
LAST-MODIFIED:20200610T142730Z
UID:30638-1593504000-1593536400@perfumerydirectory.com
SUMMARY:Perfumery Online Webinar
DESCRIPTION:
URL:https://perfumerydirectory.com/event/perfumery-online-webinar/
LOCATION:BEAUTY CLUSTER BARCELONA\, C/ Mila i Fontanals\, 14\, Barcelona\, 08012\, Spain
CATEGORIES:Webinar
END:VEVENT
END:VCALENDAR